BEGIN:VCALENDAR
VERSION:2.0
PRODID:-//Paramount Pharmasave - ECPv5.3.1.1//NONSGML v1.0//EN
CALSCALE:GREGORIAN
METHOD:PUBLISH
X-WR-CALNAME:Paramount Pharmasave
X-ORIGINAL-URL:https://paramountwellness.ca
X-WR-CALDESC:Events for Paramount Pharmasave
BEGIN:VTIMEZONE
TZID:UTC
BEGIN:STANDARD
TZOFFSETFROM:+0000
TZOFFSETTO:+0000
TZNAME:UTC
DTSTART:20180101T000000
END:STANDARD
END:VTIMEZONE
BEGIN:VEVENT
DTSTART;TZID=UTC:20180714T080000
DTEND;TZID=UTC:20180714T170000
DTSTAMP:20260424T090149
CREATED:20180713T135348Z
LAST-MODIFIED:20180713T135348Z
UID:5278-1531555200-1531587600@paramountwellness.ca
SUMMARY:test july 13
DESCRIPTION:
URL:https://paramountwellness.ca/event/test-july-13/
END:VEVENT
END:VCALENDAR